BEGIN:VCALENDAR
VERSION:2.0
PRODID:-//Rotary District 9104 - ECPv6.15.18//NONSGML v1.0//EN
CALSCALE:GREGORIAN
METHOD:PUBLISH
X-ORIGINAL-URL:https://rotarydist9104.org
X-WR-CALDESC:Events for Rotary District 9104
REFRESH-INTERVAL;VALUE=DURATION:PT1H
X-Robots-Tag:noindex
X-PUBLISHED-TTL:PT1H
BEGIN:VTIMEZONE
TZID:UTC
BEGIN:STANDARD
TZOFFSETFROM:+0000
TZOFFSETTO:+0000
TZNAME:UTC
DTSTART:20230101T000000
END:STANDARD
END:VTIMEZONE
BEGIN:VEVENT
DTSTART;VALUE=DATE:20241109
DTEND;VALUE=DATE:20241110
DTSTAMP:20260421T172115
CREATED:20241111T143037Z
LAST-MODIFIED:20241111T143037Z
UID:10000035-1731110400-1731196799@rotarydist9104.org
SUMMARY:DG's Visit - RC Accra - Morning Tide
DESCRIPTION:
URL:https://rotarydist9104.org/event-calendar/dgs-visit-rc-accra-morning-tide/
ORGANIZER;CN="Rotary District 9104":MAILTO:info@rotarydist9104.org
END:VEVENT
BEGIN:VEVENT
DTSTART;TZID=UTC:20241108T080000
DTEND;TZID=UTC:20241108T120000
DTSTAMP:20260421T172115
CREATED:20241111T142921Z
LAST-MODIFIED:20241111T142921Z
UID:10000034-1731052800-1731067200@rotarydist9104.org
SUMMARY:Guest of Honor British Council RC Accra - East Project
DESCRIPTION:
URL:https://rotarydist9104.org/event-calendar/guest-of-honor-british-council-rc-accra-east-project/
ORGANIZER;CN="Rotary District 9104":MAILTO:info@rotarydist9104.org
END:VEVENT
BEGIN:VEVENT
DTSTART;VALUE=DATE:20241107
DTEND;VALUE=DATE:20241108
DTSTAMP:20260421T172115
CREATED:20241111T142708Z
LAST-MODIFIED:20241111T142708Z
UID:10000033-1730937600-1731023999@rotarydist9104.org
SUMMARY:DG's Visit - RC Accra - LA East & Accra - Legon East & Accra - Industrial
DESCRIPTION:
URL:https://rotarydist9104.org/event-calendar/dgs-visit-rc-accra-la-east-accra-legon-east-accra-industrial/
ORGANIZER;CN="Rotary District 9104":MAILTO:info@rotarydist9104.org
END:VEVENT
BEGIN:VEVENT
DTSTART;VALUE=DATE:20241103
DTEND;VALUE=DATE:20241106
DTSTAMP:20260421T172115
CREATED:20240731T164332Z
LAST-MODIFIED:20240731T164332Z
UID:10000011-1730592000-1730851199@rotarydist9104.org
SUMMARY:District Interact Week
DESCRIPTION:
URL:https://rotarydist9104.org/event-calendar/district-interact-week/
ORGANIZER;CN="Rotary District 9104":MAILTO:info@rotarydist9104.org
END:VEVENT
BEGIN:VEVENT
DTSTART;VALUE=DATE:20241101
DTEND;VALUE=DATE:20241201
DTSTAMP:20260421T172115
CREATED:20240814T085857Z
LAST-MODIFIED:20240814T085857Z
UID:10000014-1730419200-1733011199@rotarydist9104.org
SUMMARY:West Africa Project Fair
DESCRIPTION:
URL:https://rotarydist9104.org/event-calendar/west-africa-project-fair/
ORGANIZER;CN="Rotary District 9104":MAILTO:info@rotarydist9104.org
END:VEVENT
BEGIN:VEVENT
DTSTART;VALUE=DATE:20241024
DTEND;VALUE=DATE:20241025
DTSTAMP:20260421T172115
CREATED:20240731T164109Z
LAST-MODIFIED:20240731T164109Z
UID:10000010-1729728000-1729814399@rotarydist9104.org
SUMMARY:Anniversary of Rotary In Ghana
DESCRIPTION:
URL:https://rotarydist9104.org/event-calendar/anniversary-of-rotary-in-ghana/
ORGANIZER;CN="Rotary District 9104":MAILTO:info@rotarydist9104.org
END:VEVENT
BEGIN:VEVENT
DTSTART;VALUE=DATE:20241024
DTEND;VALUE=DATE:20241025
DTSTAMP:20260421T172115
CREATED:20240731T163825Z
LAST-MODIFIED:20240731T163948Z
UID:10000009-1729728000-1729814399@rotarydist9104.org
SUMMARY:World Polio Day
DESCRIPTION:
URL:https://rotarydist9104.org/event-calendar/world-polio-day/
ORGANIZER;CN="Rotary District 9104":MAILTO:info@rotarydist9104.org
END:VEVENT
BEGIN:VEVENT
DTSTART;VALUE=DATE:20240923
DTEND;VALUE=DATE:20240929
DTSTAMP:20260421T172115
CREATED:20240731T163200Z
LAST-MODIFIED:20240731T163200Z
UID:10000008-1727049600-1727567999@rotarydist9104.org
SUMMARY:6th All Africa Zone Institute\, Mauritius
DESCRIPTION:
URL:https://rotarydist9104.org/event-calendar/6th-all-africa-zone-institute-mauritius/
ORGANIZER;CN="Rotary District 9104":MAILTO:info@rotarydist9104.org
END:VEVENT
BEGIN:VEVENT
DTSTART;VALUE=DATE:20240902
DTEND;VALUE=DATE:20240903
DTSTAMP:20260421T172115
CREATED:20240814T085647Z
LAST-MODIFIED:20240814T085647Z
UID:10000013-1725235200-1725321599@rotarydist9104.org
SUMMARY:District Foundation Seminar
DESCRIPTION:
URL:https://rotarydist9104.org/event-calendar/district-foundation-seminar/
ORGANIZER;CN="Rotary District 9104":MAILTO:info@rotarydist9104.org
END:VEVENT
BEGIN:VEVENT
DTSTART;VALUE=DATE:20240824
DTEND;VALUE=DATE:20240825
DTSTAMP:20260421T172115
CREATED:20240731T162935Z
LAST-MODIFIED:20240731T163030Z
UID:10000007-1724457600-1724543999@rotarydist9104.org
SUMMARY:District Membership Seminar
DESCRIPTION:
URL:https://rotarydist9104.org/event-calendar/district-membership-seminar/
ORGANIZER;CN="Rotary District 9104":MAILTO:info@rotarydist9104.org
END:VEVENT
BEGIN:VEVENT
DTSTART;VALUE=DATE:20240810
DTEND;VALUE=DATE:20240811
DTSTAMP:20260421T172115
CREATED:20240731T162022Z
LAST-MODIFIED:20240731T162022Z
UID:10000005-1723248000-1723334399@rotarydist9104.org
SUMMARY:International Youth Day Celebration (International Competition with five districts)
DESCRIPTION:
URL:https://rotarydist9104.org/event-calendar/international-youth-day-celebration-international-competition-with-five-districts/
ORGANIZER;CN="Rotary District 9104":MAILTO:info@rotarydist9104.org
END:VEVENT
BEGIN:VEVENT
DTSTART;VALUE=DATE:20240713
DTEND;VALUE=DATE:20240714
DTSTAMP:20260421T172115
CREATED:20240731T160916Z
LAST-MODIFIED:20240731T160916Z
UID:10000002-1720828800-1720915199@rotarydist9104.org
SUMMARY:District Rotaract/National & Club Handover Dinner
DESCRIPTION:
URL:https://rotarydist9104.org/event-calendar/district-rotaract-national-club-handover-dinner/
ORGANIZER;CN="Rotary District 9104":MAILTO:info@rotarydist9104.org
END:VEVENT
BEGIN:VEVENT
DTSTART;VALUE=DATE:20240706
DTEND;VALUE=DATE:20240707
DTSTAMP:20260421T172115
CREATED:20240731T155139Z
LAST-MODIFIED:20240731T155515Z
UID:10000001-1720224000-1720310399@rotarydist9104.org
SUMMARY:District Handover Ceremony
DESCRIPTION:
URL:https://rotarydist9104.org/event-calendar/district-handover-ceremony/
ORGANIZER;CN="Rotary District 9104":MAILTO:info@rotarydist9104.org
END:VEVENT
BEGIN:VEVENT
DTSTART;VALUE=DATE:20240701
DTEND;VALUE=DATE:20240723
DTSTAMP:20260421T172115
CREATED:20240731T161101Z
LAST-MODIFIED:20240731T161101Z
UID:10000003-1719792000-1721692799@rotarydist9104.org
SUMMARY:Complete Club Board and Committee Chair Orientation and Submit report sheet
DESCRIPTION:
URL:https://rotarydist9104.org/event-calendar/complete-club-board-and-committee-chair-orientation-and-submit-report-sheet/
ORGANIZER;CN="Rotary District 9104":MAILTO:info@rotarydist9104.org
END:VEVENT
END:VCALENDAR